BEGIN:VCALENDAR
VERSION:2.0
PRODID:-//Locksheath &amp; Sarisbury Camera Club - ECPv6.15.20//NONSGML v1.0//EN
CALSCALE:GREGORIAN
METHOD:PUBLISH
X-WR-CALNAME:Locksheath &amp; Sarisbury Camera Club
X-ORIGINAL-URL:https://lhscc.club
X-WR-CALDESC:Events for Locksheath &amp; Sarisbury Camera Club
REFRESH-INTERVAL;VALUE=DURATION:PT1H
X-Robots-Tag:noindex
X-PUBLISHED-TTL:PT1H
BEGIN:VTIMEZONE
TZID:Europe/London
BEGIN:DAYLIGHT
TZOFFSETFROM:+0000
TZOFFSETTO:+0100
TZNAME:BST
DTSTART:20240331T010000
END:DAYLIGHT
BEGIN:STANDARD
TZOFFSETFROM:+0100
TZOFFSETTO:+0000
TZNAME:GMT
DTSTART:20241027T010000
END:STANDARD
BEGIN:DAYLIGHT
TZOFFSETFROM:+0000
TZOFFSETTO:+0100
TZNAME:BST
DTSTART:20250330T010000
END:DAYLIGHT
BEGIN:STANDARD
TZOFFSETFROM:+0100
TZOFFSETTO:+0000
TZNAME:GMT
DTSTART:20251026T010000
END:STANDARD
BEGIN:DAYLIGHT
TZOFFSETFROM:+0000
TZOFFSETTO:+0100
TZNAME:BST
DTSTART:20260329T010000
END:DAYLIGHT
BEGIN:STANDARD
TZOFFSETFROM:+0100
TZOFFSETTO:+0000
TZNAME:GMT
DTSTART:20261025T010000
END:STANDARD
END:VTIMEZONE
BEGIN:VEVENT
DTSTART;TZID=Europe/London:20251115T100000
DTEND;TZID=Europe/London:20251115T120000
DTSTAMP:20260425T150653
CREATED:20250714T094237Z
LAST-MODIFIED:20251114T170556Z
UID:4784-1763200800-1763208000@lhscc.club
SUMMARY:POSTPONED
DESCRIPTION:The weather has conspired against us so this event will be rescheduled for 2026 \n  \nWeather permitting\, we will meet at 10:00 for a two hour stroll with a camera around Mudeford Quays. \nMudeford Quay offers the opportunity to photograph a seaside location on the edge of the New Forest with plenty subjects to photograph. \nDirections to the car park can be found by using the post code BH23 4AB. Parking charges apply using card or the Ringo parking app. We will meet at 10am outside the Haven House Inn and Café which is in the car park itself so you cannot miss it. More details will be sent out beforehand including what you need to take if you would like to learn more about long exposure photography \n  \nA good chance for non-members to find out more about our activities and meet club members informally on a walk. \n  \n   \n  \nSee club website for Outdoor event risk assessment.
URL:https://lhscc.club/event/saturday-photowalk-3/
END:VEVENT
END:VCALENDAR