BEGIN:VCALENDAR
VERSION:2.0
PRODID:-//Locksheath &amp; Sarisbury Camera Club - ECPv6.15.20//NONSGML v1.0//EN
CALSCALE:GREGORIAN
METHOD:PUBLISH
X-ORIGINAL-URL:https://lhscc.club
X-WR-CALDESC:Events for Locksheath &amp; Sarisbury Camera Club
REFRESH-INTERVAL;VALUE=DURATION:PT1H
X-Robots-Tag:noindex
X-PUBLISHED-TTL:PT1H
BEGIN:VTIMEZONE
TZID:Europe/London
BEGIN:DAYLIGHT
TZOFFSETFROM:+0000
TZOFFSETTO:+0100
TZNAME:BST
DTSTART:20250330T010000
END:DAYLIGHT
BEGIN:STANDARD
TZOFFSETFROM:+0100
TZOFFSETTO:+0000
TZNAME:GMT
DTSTART:20251026T010000
END:STANDARD
BEGIN:DAYLIGHT
TZOFFSETFROM:+0000
TZOFFSETTO:+0100
TZNAME:BST
DTSTART:20260329T010000
END:DAYLIGHT
BEGIN:STANDARD
TZOFFSETFROM:+0100
TZOFFSETTO:+0000
TZNAME:GMT
DTSTART:20261025T010000
END:STANDARD
BEGIN:DAYLIGHT
TZOFFSETFROM:+0000
TZOFFSETTO:+0100
TZNAME:BST
DTSTART:20270328T010000
END:DAYLIGHT
BEGIN:STANDARD
TZOFFSETFROM:+0100
TZOFFSETTO:+0000
TZNAME:GMT
DTSTART:20271031T010000
END:STANDARD
END:VTIMEZONE
BEGIN:VEVENT
DTSTART;TZID=Europe/London:20260420T193000
DTEND;TZID=Europe/London:20260420T220000
DTSTAMP:20260423T132905
CREATED:20250821T084643Z
LAST-MODIFIED:20250821T084643Z
UID:4955-1776713400-1776722400@lhscc.club
SUMMARY:Conservation
DESCRIPTION:Lara Jackson :Award-Winning Wildlife photographer\n\n\nI’m a conservation biologist and award-winning wildlife photographer whose research has taken me around the world. From the dry-forests of Madagascar to the tropical rainforests of Belize\, and from rhinos roaming the open savannahs of East Africa to the dolphins that glide through the waves in Zanzibar\, I am so fortunate to have studied several critically endangered species and worked alongside some of the most passionate and dedicated conservationists that I’ve ever met. \n\n  \nLara will be doing a Zoom presentation entitled “A lens for conservation”. We have been trying to get Lara to talk to the club for some while and have now managed to book her. If she happens to be in the area at this time she will come to the club! \nhttps://www.larawildlife.co.uk/ \n 
URL:https://lhscc.club/event/conservation/
END:VEVENT
END:VCALENDAR