BEGIN:VCALENDAR
VERSION:2.0
PRODID:-//Locksheath &amp; Sarisbury Camera Club - ECPv6.15.20//NONSGML v1.0//EN
CALSCALE:GREGORIAN
METHOD:PUBLISH
X-WR-CALNAME:Locksheath &amp; Sarisbury Camera Club
X-ORIGINAL-URL:https://lhscc.club
X-WR-CALDESC:Events for Locksheath &amp; Sarisbury Camera Club
REFRESH-INTERVAL;VALUE=DURATION:PT1H
X-Robots-Tag:noindex
X-PUBLISHED-TTL:PT1H
BEGIN:VTIMEZONE
TZID:Europe/London
BEGIN:DAYLIGHT
TZOFFSETFROM:+0000
TZOFFSETTO:+0100
TZNAME:BST
DTSTART:20250330T010000
END:DAYLIGHT
BEGIN:STANDARD
TZOFFSETFROM:+0100
TZOFFSETTO:+0000
TZNAME:GMT
DTSTART:20251026T010000
END:STANDARD
BEGIN:DAYLIGHT
TZOFFSETFROM:+0000
TZOFFSETTO:+0100
TZNAME:BST
DTSTART:20260329T010000
END:DAYLIGHT
BEGIN:STANDARD
TZOFFSETFROM:+0100
TZOFFSETTO:+0000
TZNAME:GMT
DTSTART:20261025T010000
END:STANDARD
BEGIN:DAYLIGHT
TZOFFSETFROM:+0000
TZOFFSETTO:+0100
TZNAME:BST
DTSTART:20270328T010000
END:DAYLIGHT
BEGIN:STANDARD
TZOFFSETFROM:+0100
TZOFFSETTO:+0000
TZNAME:GMT
DTSTART:20271031T010000
END:STANDARD
END:VTIMEZONE
BEGIN:VEVENT
DTSTART;TZID=Europe/London:20260601T193000
DTEND;TZID=Europe/London:20260601T220000
DTSTAMP:20260423T164755
CREATED:20250827T122527Z
LAST-MODIFIED:20260416T083418Z
UID:4969-1780342200-1780351200@lhscc.club
SUMMARY:Huxford Trophy
DESCRIPTION:Huxford Trophy night \nSponsored by London Camera Exchange with a £50 LCE prize! \n  \nMembers can submit ONE pdi entry on any subject. \nMembers have to be there on the night as the trophy and £50 prize is presented at the end of the evening. \n  \n  \nA judge will select what they consider to be the best six images. No scores are given on this occasion. \nThe members will then place their own votes: Five points for first choice\, Three points for second choice and One point for third choice. \nAll scores are tallied and the winner declared. \n  \nGood luck! \n 
URL:https://lhscc.club/event/huxford-trophy/
END:VEVENT
END:VCALENDAR