BEGIN:VCALENDAR
VERSION:2.0
PRODID:-//Locksheath &amp; Sarisbury Camera Club - ECPv6.15.20//NONSGML v1.0//EN
CALSCALE:GREGORIAN
METHOD:PUBLISH
X-WR-CALNAME:Locksheath &amp; Sarisbury Camera Club
X-ORIGINAL-URL:https://lhscc.club
X-WR-CALDESC:Events for Locksheath &amp; Sarisbury Camera Club
REFRESH-INTERVAL;VALUE=DURATION:PT1H
X-Robots-Tag:noindex
X-PUBLISHED-TTL:PT1H
BEGIN:VTIMEZONE
TZID:Europe/London
BEGIN:DAYLIGHT
TZOFFSETFROM:+0000
TZOFFSETTO:+0100
TZNAME:BST
DTSTART:20240331T010000
END:DAYLIGHT
BEGIN:STANDARD
TZOFFSETFROM:+0100
TZOFFSETTO:+0000
TZNAME:GMT
DTSTART:20241027T010000
END:STANDARD
BEGIN:DAYLIGHT
TZOFFSETFROM:+0000
TZOFFSETTO:+0100
TZNAME:BST
DTSTART:20250330T010000
END:DAYLIGHT
BEGIN:STANDARD
TZOFFSETFROM:+0100
TZOFFSETTO:+0000
TZNAME:GMT
DTSTART:20251026T010000
END:STANDARD
BEGIN:DAYLIGHT
TZOFFSETFROM:+0000
TZOFFSETTO:+0100
TZNAME:BST
DTSTART:20260329T010000
END:DAYLIGHT
BEGIN:STANDARD
TZOFFSETFROM:+0100
TZOFFSETTO:+0000
TZNAME:GMT
DTSTART:20261025T010000
END:STANDARD
BEGIN:DAYLIGHT
TZOFFSETFROM:+0000
TZOFFSETTO:+0100
TZNAME:BST
DTSTART:20270328T010000
END:DAYLIGHT
BEGIN:STANDARD
TZOFFSETFROM:+0100
TZOFFSETTO:+0000
TZNAME:GMT
DTSTART:20271031T010000
END:STANDARD
END:VTIMEZONE
BEGIN:VEVENT
DTSTART;TZID=Europe/London:20260309T193000
DTEND;TZID=Europe/London:20260309T220000
DTSTAMP:20260423T202134
CREATED:20250827T120953Z
LAST-MODIFIED:20250827T120953Z
UID:4962-1773084600-1773093600@lhscc.club
SUMMARY:Competition
DESCRIPTION:Internal Competition \n  \n“Through a glass darkly” (pdi) \n“Open” (Print) \n  \nJudge: Pietro Rocchiccioli \n 
URL:https://lhscc.club/event/competition-4/
END:VEVENT
BEGIN:VEVENT
DTSTART;TZID=Europe/London:20260302T193000
DTEND;TZID=Europe/London:20260302T220000
DTSTAMP:20260423T202134
CREATED:20251119T102708Z
LAST-MODIFIED:20260206T095324Z
UID:5116-1772479800-1772488800@lhscc.club
SUMMARY:LET'S DANCE
DESCRIPTION:A practical session based on dance! \n  \nWe hope to have various dancers to pose for us. If you have contact with any dancers please let the committee know so we can arrange a fun\, lively evening catching the action. \n  \nSo far we think we have a ballet dancer\, some jivers\, a tango dancer plus students from Phoenix Performing Arts! \nBackdrops and lighting gear will be in situ plus a throng of eager photographers! Do contribute to the evening in any way that you can please. \n  \nAs we can only have our hall on this evening (all other spaces in use) it might get a bit crowded! \nSo\, we will be asking members to take turns at the three lighting set ups. To alleviate space\, and while you are waitng your go\, the bar area beckons! \n  \n 
URL:https://lhscc.club/event/lets-dance/
END:VEVENT
BEGIN:VEVENT
DTSTART;TZID=Europe/London:20260223T193000
DTEND;TZID=Europe/London:20260223T220000
DTSTAMP:20260423T202134
CREATED:20251119T102141Z
LAST-MODIFIED:20251216T093312Z
UID:5114-1771875000-1771884000@lhscc.club
SUMMARY:"Mountains\, Minarets and Monkeys"
DESCRIPTION:“Mountains\, Minarets and Monkeys”\nAn in-person talk by Glyn Paton\n\nHis new talk is entitled  “Mountains\, Minarets and Monkeys”.  It is about 3 photo tours to The Dolomites\, Turkey and Costa Rica\n\nIt covers the genres: landscapes\, travel\, people\, street\, architecture and wildlife.\n\nAs with all of his  talks\, while  there are some worthwhile images\, the emphasis is on entertainment and information.  Information about the places and the techniques used\, and humour about photographic tours\, the people and the places.\n\nThere are nearly 300 images shown over the evening!
URL:https://lhscc.club/event/practical-8/
END:VEVENT
BEGIN:VEVENT
DTSTART;TZID=Europe/London:20260221T100000
DTEND;TZID=Europe/London:20260221T120000
DTSTAMP:20260423T202134
CREATED:20251216T093954Z
LAST-MODIFIED:20260206T094513Z
UID:5188-1771668000-1771675200@lhscc.club
SUMMARY:SATURDAY PHOTOWALK
DESCRIPTION:ALRESFORD \n  \nWe will meet at 10:00 for a two hour walk around the picturesque town of Alresford. \nSee our website for outdoor risk assessment. \nWhat do I need? • Camera • Short Zoom lens • Comfy walking shoes \nWhat will I learn? • Thinking about the photos you take • Composition • Presenting the location from your perspective \nStory telling is about you telling a story of the location you visited\, it can include landmarks\, things the location is known for and even friends and family. It is not about art gallery quality prints but more about your day and how you saw everything. Try and make a story of 6-8 photos and please share them on our Facebook page and WhatsApp group. Hopefully the below will give you some ideas.
URL:https://lhscc.club/event/saturday-photowalk-4/
END:VEVENT
BEGIN:VEVENT
DTSTART;TZID=Europe/London:20260216T193000
DTEND;TZID=Europe/London:20260216T220000
DTSTAMP:20260423T202134
CREATED:20251119T102047Z
LAST-MODIFIED:20251219T100336Z
UID:5112-1771270200-1771279200@lhscc.club
SUMMARY:DEMONSTRATION
DESCRIPTION:Bokeh explained\, both natural and by design: a demonstration presented by Carl Reeve \n  \nCarl has been invited back by popular demand to show us another aspect of photography from his wide set of skills. He will show how to get the bokeh effect in a live demonstration using a model (it could be you!). \n 
URL:https://lhscc.club/event/practical-7/
END:VEVENT
BEGIN:VEVENT
DTSTART;TZID=Europe/London:20260209T193000
DTEND;TZID=Europe/London:20260209T220000
DTSTAMP:20260423T202134
CREATED:20250820T092023Z
LAST-MODIFIED:20250820T130219Z
UID:4946-1770665400-1770674400@lhscc.club
SUMMARY:TALK
DESCRIPTION:What is a portrait? by Tom Peck (Zoom talk)\nhttps://www.thomaspeckphotography.com/\n\n\n\n\n\nThis presentation will look at the history of photographic portraiture from the Victorian beginnings through to our selfie culture of the 21st Century. It traces how portraits have evolved from pictorialism through to post modernism\, and will delve into social documentary\, fashion\, celebrity and even  portrait ‘notoriety’. It unravels the question of what is a portrait\, and who creates it? The photographer? The sitter? The viewer? \n\n\n\nA 2 hour tour of portraits from the last 170 years – you’ll never look at a portrait in the same way again.\n\n\n\n\n \nContemplation
URL:https://lhscc.club/event/talk-5/
END:VEVENT
BEGIN:VEVENT
DTSTART;TZID=Europe/London:20260202T193000
DTEND;TZID=Europe/London:20260202T220000
DTSTAMP:20260423T202134
CREATED:20250731T083851Z
LAST-MODIFIED:20250731T083922Z
UID:4862-1770060600-1770069600@lhscc.club
SUMMARY:COMPETITION
DESCRIPTION:Mike Taylor will be appraising our efforts. \n  \nPrint subject: Frozen in time \npdi:  Open
URL:https://lhscc.club/event/competition-8/
END:VEVENT
BEGIN:VEVENT
DTSTART;TZID=Europe/London:20260126T193000
DTEND;TZID=Europe/London:20260126T220000
DTSTAMP:20260423T202134
CREATED:20250731T083504Z
LAST-MODIFIED:20251204T163206Z
UID:4858-1769455800-1769464800@lhscc.club
SUMMARY:Kenyan Safari
DESCRIPTION:A TALK by Mike Cullis.  \nMike will be sharing the images he captured whilst on his travels in Kenya \n“When I took these images I was shooting at close quarters with a wide open window!  Only later I thought that this was a bit of a risk!”
URL:https://lhscc.club/event/practical-6/
END:VEVENT
BEGIN:VEVENT
DTSTART;TZID=Europe/London:20260119T193000
DTEND;TZID=Europe/London:20260119T220000
DTSTAMP:20260423T202134
CREATED:20251117T222420Z
LAST-MODIFIED:20251204T163348Z
UID:5107-1768851000-1768860000@lhscc.club
SUMMARY:Travel Talk
DESCRIPTION:Travels with a camera \n  \nThis evening we will see images from members who have been on some exciting travels. \nTim will be sharing his tales and images from his intrepid trek up Kilimanjaro \nAnd Susan and Paul will be showing some of the images they captured whilst in Namibia \n  \nA great evening at the club is guaranteed! \n  \n  \n 
URL:https://lhscc.club/event/travel-talk/
END:VEVENT
BEGIN:VEVENT
DTSTART;TZID=Europe/London:20260117T100000
DTEND;TZID=Europe/London:20260117T120000
DTSTAMP:20260423T202134
CREATED:20250731T083428Z
LAST-MODIFIED:20251204T145458Z
UID:4856-1768644000-1768651200@lhscc.club
SUMMARY:SATURDAY WALK
DESCRIPTION:Mudeford Quay\, Dorset\n\nMudeford Quay offers the opportunity to photograph a seaside location on the edge of the New Forest\nwith plenty of subjects to photograph: seascapes\, wildlife\, people\, action…\n\nDirections to the car park can be found by using the post code BH23 4AB.\nParking charges apply using card or the Ringo parking app.\n\nWe will meet at 10am outside the Haven House Inn and Café which is in the car park itself so you cannot \nmiss it.\n\nMore details will be sent out beforehand including what you need to take if you would like to learn more\nabout long exposure photography.
URL:https://lhscc.club/event/saturday-walk/
END:VEVENT
BEGIN:VEVENT
DTSTART;TZID=Europe/London:20260112T193000
DTEND;TZID=Europe/London:20260112T220000
DTSTAMP:20260423T202134
CREATED:20250731T083609Z
LAST-MODIFIED:20251118T140313Z
UID:4860-1768246200-1768255200@lhscc.club
SUMMARY:Skittle Night!
DESCRIPTION:Good news! \n  \nWe start our 2026 sessions with the ever-popular SKITTLES EVENING at 7:30pm on Monday 12th January 2026. \n  \nBook your place (and give your food choice) as soon as possible please. The evening cost £14 and we will need to collect your money and menu choices at the coming Monday evening club meetings. Last orders will be 15th December 2025. Initially we will be inviting members only. If spare places are available then we will open the event up to partners. \n  \nLocation: \nThe Crofton \n48 Crofton Lane\nFareham\nHampshire\nPO14 3QF \n01329 558973 \n  \nhttps://www.thecrofton.co.uk \n  \n  \n 
URL:https://lhscc.club/event/welcome-back-3/
END:VEVENT
BEGIN:VEVENT
DTSTART;TZID=Europe/London:20251215T183000
DTEND;TZID=Europe/London:20251215T203000
DTSTAMP:20260423T202134
CREATED:20250714T103718Z
LAST-MODIFIED:20251128T153437Z
UID:4811-1765823400-1765830600@lhscc.club
SUMMARY:SALISBURY at night
DESCRIPTION:As our last meeting before Christmas we will be venturing into Wiltshire and meeting in the centre of Salisbury. \n  \nWith the Christmas market and lights it could be busy! We will start outside BRADBEERS Department store on Blue Boar Row – it is on the market/Guildhall square. \n  \n \nWe will get shots around the square with all the Christmas decorations and also walk to the cathedral for outdoor images. \nTripods can be useful but also pose a trip hazard for people at night so do take care. \n  \nMeet at 6:30pm. \nThere are several car parks nearby. \nSee website for outdoor risk assessment
URL:https://lhscc.club/event/talk-3/
END:VEVENT
BEGIN:VEVENT
DTSTART;TZID=Europe/London:20251208T193000
DTEND;TZID=Europe/London:20251208T220000
DTSTAMP:20260423T202134
CREATED:20250714T103530Z
LAST-MODIFIED:20251128T113215Z
UID:4809-1765222200-1765231200@lhscc.club
SUMMARY:SHOW AND TELL
DESCRIPTION:The ever popular chance for members to show what photos they have captured recently. Maybe club night shots\, photowalks\, etc. Members comment on each other’s images with plenty of praise and sometimes suggestions for changes. \n 
URL:https://lhscc.club/event/show-and-tell/
END:VEVENT
BEGIN:VEVENT
DTSTART;TZID=Europe/London:20251201T193000
DTEND;TZID=Europe/London:20251201T220000
DTSTAMP:20260423T202134
CREATED:20250714T100540Z
LAST-MODIFIED:20250714T100540Z
UID:4794-1764617400-1764626400@lhscc.club
SUMMARY:COMPETITION
DESCRIPTION:An internal competition with Glyn Paton ARPS CPAGB appraising our efforts. \nPrint: Open (any subject) \npdi: “Reflections” \n  \nSee webpage for rules on submitting images please. \n  \n 
URL:https://lhscc.club/event/competition-3/
END:VEVENT
BEGIN:VEVENT
DTSTART;TZID=Europe/London:20251124T193000
DTEND;TZID=Europe/London:20251124T220000
DTSTAMP:20260423T202134
CREATED:20250714T103114Z
LAST-MODIFIED:20250714T103114Z
UID:4807-1764012600-1764021600@lhscc.club
SUMMARY:PRACTICAL
DESCRIPTION:Let’s have some fun with portrait photography! \n  \nMembers can dress us “posh” and be models and photographers! Let’s try and create that image you’d want at a wedding\, celebration\, prom or other posh do!
URL:https://lhscc.club/event/practical-4/
END:VEVENT
BEGIN:VEVENT
DTSTART;TZID=Europe/London:20251117T193000
DTEND;TZID=Europe/London:20251117T220000
DTSTAMP:20260423T202134
CREATED:20250714T102411Z
LAST-MODIFIED:20251114T170706Z
UID:4804-1763407800-1763416800@lhscc.club
SUMMARY:TALK + Foodbank
DESCRIPTION:Shaun Boggust revisits the club to share his work on Sports Photography. \n  \nhttps://shaunboggust.photoshelter.com/index \n  \nWe will also be collecting for the local Foodbank in Locks Heath. Please make sure any donations are in-date and unopened. \n  \n  \n  \nAND… YOUR CHANCE TO WIN A SONY CAMERA in our raffle. Kindly donated by Kevin Lee.
URL:https://lhscc.club/event/talk-2/
END:VEVENT
BEGIN:VEVENT
DTSTART;TZID=Europe/London:20251115T100000
DTEND;TZID=Europe/London:20251115T120000
DTSTAMP:20260423T202134
CREATED:20250714T094237Z
LAST-MODIFIED:20251114T170556Z
UID:4784-1763200800-1763208000@lhscc.club
SUMMARY:POSTPONED
DESCRIPTION:The weather has conspired against us so this event will be rescheduled for 2026 \n  \nWeather permitting\, we will meet at 10:00 for a two hour stroll with a camera around Mudeford Quays. \nMudeford Quay offers the opportunity to photograph a seaside location on the edge of the New Forest with plenty subjects to photograph. \nDirections to the car park can be found by using the post code BH23 4AB. Parking charges apply using card or the Ringo parking app. We will meet at 10am outside the Haven House Inn and Café which is in the car park itself so you cannot miss it. More details will be sent out beforehand including what you need to take if you would like to learn more about long exposure photography \n  \nA good chance for non-members to find out more about our activities and meet club members informally on a walk. \n  \n   \n  \nSee club website for Outdoor event risk assessment.
URL:https://lhscc.club/event/saturday-photowalk-3/
END:VEVENT
BEGIN:VEVENT
DTSTART;TZID=Europe/London:20251110T193000
DTEND;TZID=Europe/London:20251110T220000
DTSTAMP:20260423T202134
CREATED:20250714T102122Z
LAST-MODIFIED:20251030T123614Z
UID:4802-1762803000-1762812000@lhscc.club
SUMMARY:POST PRODUCTION
DESCRIPTION:An evening with the club considering how to create triptychs\, submit entries to competitions\, manipulate images to improve the shot. \n  \nLet us know what you would like covered and we will do our best to match your needs. \nThe evening will probably start with a demonstration and then we will break into groups to try and give individual/small group advice. Bring your laptops (with photo software) if possible please. \n \n 
URL:https://lhscc.club/event/practical-3/
END:VEVENT
BEGIN:VEVENT
DTSTART;TZID=Europe/London:20251106T190000
DTEND;TZID=Europe/London:20251106T210000
DTSTAMP:20260423T202134
CREATED:20250721T082833Z
LAST-MODIFIED:20250721T082833Z
UID:4834-1762455600-1762462800@lhscc.club
SUMMARY:BASICS COURSE
DESCRIPTION:A six week course running through the basics of photography. Thursday evenings at the Sarisbury Green Community centre. \nThe basic course comes as part of club membership (£60 per year). Those on the course have full access to the club membership (including insurance). So\, if you sign up for the course you can come to the club events too (or if you join the club you can do the basics course)! \n  \nHow to use the settings on your camera; getting off auto; use of flash… and much more! RossUnderwood is your tutor/guide. \nTo help planning\, please register your interest directly with Ross via email:                  militantcyclist@hotmail.com
URL:https://lhscc.club/event/basics-course-6/
END:VEVENT
BEGIN:VEVENT
DTSTART;TZID=Europe/London:20251103T193000
DTEND;TZID=Europe/London:20251103T220000
DTSTAMP:20260423T202134
CREATED:20250714T100149Z
LAST-MODIFIED:20251003T145846Z
UID:4792-1762198200-1762207200@lhscc.club
SUMMARY:COMPETITION
DESCRIPTION:An internal competition with Mike Cullis ARPS\, DPAGB  appraising our efforts. \n  \nwww.mhcphotography.co.uk \n  \n  \n  \nPrint: Humorous \npdi:     (any subject) \n  \nSee webpage for rules on submitting images please. \n 
URL:https://lhscc.club/event/competition-2/
END:VEVENT
BEGIN:VEVENT
DTSTART;TZID=Europe/London:20251030T190000
DTEND;TZID=Europe/London:20251030T210000
DTSTAMP:20260423T202134
CREATED:20250721T082753Z
LAST-MODIFIED:20250721T082753Z
UID:4832-1761850800-1761858000@lhscc.club
SUMMARY:BASICS COURSE
DESCRIPTION:A six week course running through the basics of photography. Thursday evenings at the Sarisbury Green Community centre. \nThe basic course comes as part of club membership (£60 per year). Those on the course have full access to the club membership (including insurance). So\, if you sign up for the course you can come to the club events too (or if you join the club you can do the basics course)! \n  \nHow to use the settings on your camera; getting off auto; use of flash… and much more! RossUnderwood is your tutor/guide. \nTo help planning\, please register your interest directly with Ross via email:                  militantcyclist@hotmail.com
URL:https://lhscc.club/event/basics-course-5/
END:VEVENT
BEGIN:VEVENT
DTSTART;TZID=Europe/London:20251027T193000
DTEND;TZID=Europe/London:20251027T220000
DTSTAMP:20260423T202134
CREATED:20250714T101820Z
LAST-MODIFIED:20250714T101820Z
UID:4800-1761593400-1761602400@lhscc.club
SUMMARY:PRACTICAL
DESCRIPTION:Let’s try and take a set of three pictures ( a triptych) using fruit. Maybe three different fruits? Fruit being eaten? (Going\, going\, gone) A fruit from three angles? \n  \nBring the lights\, backdrops and gear and have an idea! (oh\, and bring fruit too!) \n 
URL:https://lhscc.club/event/practical-2/
END:VEVENT
BEGIN:VEVENT
DTSTART;TZID=Europe/London:20251023T190000
DTEND;TZID=Europe/London:20251023T210000
DTSTAMP:20260423T202135
CREATED:20250721T082718Z
LAST-MODIFIED:20250721T082718Z
UID:4830-1761246000-1761253200@lhscc.club
SUMMARY:BASICS COURSE
DESCRIPTION:A six week course running through the basics of photography. Thursday evenings at the Sarisbury Green Community centre. \nThe basic course comes as part of club membership (£60 per year). Those on the course have full access to the club membership (including insurance). So\, if you sign up for the course you can come to the club events too (or if you join the club you can do the basics course)! \n  \nHow to use the settings on your camera; getting off auto; use of flash… and much more! RossUnderwood is your tutor/guide. \nTo help planning\, please register your interest directly with Ross via email:                  militantcyclist@hotmail.com
URL:https://lhscc.club/event/basics-course-4/
END:VEVENT
END:VCALENDAR