BEGIN:VCALENDAR
VERSION:2.0
PRODID:-//Locksheath &amp; Sarisbury Camera Club - ECPv6.15.20//NONSGML v1.0//EN
CALSCALE:GREGORIAN
METHOD:PUBLISH
X-WR-CALNAME:Locksheath &amp; Sarisbury Camera Club
X-ORIGINAL-URL:https://lhscc.club
X-WR-CALDESC:Events for Locksheath &amp; Sarisbury Camera Club
REFRESH-INTERVAL;VALUE=DURATION:PT1H
X-Robots-Tag:noindex
X-PUBLISHED-TTL:PT1H
BEGIN:VTIMEZONE
TZID:Europe/London
BEGIN:DAYLIGHT
TZOFFSETFROM:+0000
TZOFFSETTO:+0100
TZNAME:BST
DTSTART:20240331T010000
END:DAYLIGHT
BEGIN:STANDARD
TZOFFSETFROM:+0100
TZOFFSETTO:+0000
TZNAME:GMT
DTSTART:20241027T010000
END:STANDARD
BEGIN:DAYLIGHT
TZOFFSETFROM:+0000
TZOFFSETTO:+0100
TZNAME:BST
DTSTART:20250330T010000
END:DAYLIGHT
BEGIN:STANDARD
TZOFFSETFROM:+0100
TZOFFSETTO:+0000
TZNAME:GMT
DTSTART:20251026T010000
END:STANDARD
BEGIN:DAYLIGHT
TZOFFSETFROM:+0000
TZOFFSETTO:+0100
TZNAME:BST
DTSTART:20260329T010000
END:DAYLIGHT
BEGIN:STANDARD
TZOFFSETFROM:+0100
TZOFFSETTO:+0000
TZNAME:GMT
DTSTART:20261025T010000
END:STANDARD
END:VTIMEZONE
BEGIN:VEVENT
DTSTART;TZID=Europe/London:20251201T193000
DTEND;TZID=Europe/London:20251201T220000
DTSTAMP:20260425T114944
CREATED:20250714T100540Z
LAST-MODIFIED:20250714T100540Z
UID:4794-1764617400-1764626400@lhscc.club
SUMMARY:COMPETITION
DESCRIPTION:An internal competition with Glyn Paton ARPS CPAGB appraising our efforts. \nPrint: Open (any subject) \npdi: “Reflections” \n  \nSee webpage for rules on submitting images please. \n  \n 
URL:https://lhscc.club/event/competition-3/
END:VEVENT
BEGIN:VEVENT
DTSTART;TZID=Europe/London:20251208T193000
DTEND;TZID=Europe/London:20251208T220000
DTSTAMP:20260425T114945
CREATED:20250714T103530Z
LAST-MODIFIED:20251128T113215Z
UID:4809-1765222200-1765231200@lhscc.club
SUMMARY:SHOW AND TELL
DESCRIPTION:The ever popular chance for members to show what photos they have captured recently. Maybe club night shots\, photowalks\, etc. Members comment on each other’s images with plenty of praise and sometimes suggestions for changes. \n 
URL:https://lhscc.club/event/show-and-tell/
END:VEVENT
BEGIN:VEVENT
DTSTART;TZID=Europe/London:20251215T183000
DTEND;TZID=Europe/London:20251215T203000
DTSTAMP:20260425T114945
CREATED:20250714T103718Z
LAST-MODIFIED:20251128T153437Z
UID:4811-1765823400-1765830600@lhscc.club
SUMMARY:SALISBURY at night
DESCRIPTION:As our last meeting before Christmas we will be venturing into Wiltshire and meeting in the centre of Salisbury. \n  \nWith the Christmas market and lights it could be busy! We will start outside BRADBEERS Department store on Blue Boar Row – it is on the market/Guildhall square. \n  \n \nWe will get shots around the square with all the Christmas decorations and also walk to the cathedral for outdoor images. \nTripods can be useful but also pose a trip hazard for people at night so do take care. \n  \nMeet at 6:30pm. \nThere are several car parks nearby. \nSee website for outdoor risk assessment
URL:https://lhscc.club/event/talk-3/
END:VEVENT
END:VCALENDAR