BEGIN:VCALENDAR
VERSION:2.0
PRODID:-//Locksheath &amp; Sarisbury Camera Club - ECPv6.15.20//NONSGML v1.0//EN
CALSCALE:GREGORIAN
METHOD:PUBLISH
X-ORIGINAL-URL:https://lhscc.club
X-WR-CALDESC:Events for Locksheath &amp; Sarisbury Camera Club
REFRESH-INTERVAL;VALUE=DURATION:PT1H
X-Robots-Tag:noindex
X-PUBLISHED-TTL:PT1H
BEGIN:VTIMEZONE
TZID:Europe/London
BEGIN:DAYLIGHT
TZOFFSETFROM:+0000
TZOFFSETTO:+0100
TZNAME:BST
DTSTART:20250330T010000
END:DAYLIGHT
BEGIN:STANDARD
TZOFFSETFROM:+0100
TZOFFSETTO:+0000
TZNAME:GMT
DTSTART:20251026T010000
END:STANDARD
BEGIN:DAYLIGHT
TZOFFSETFROM:+0000
TZOFFSETTO:+0100
TZNAME:BST
DTSTART:20260329T010000
END:DAYLIGHT
BEGIN:STANDARD
TZOFFSETFROM:+0100
TZOFFSETTO:+0000
TZNAME:GMT
DTSTART:20261025T010000
END:STANDARD
BEGIN:DAYLIGHT
TZOFFSETFROM:+0000
TZOFFSETTO:+0100
TZNAME:BST
DTSTART:20270328T010000
END:DAYLIGHT
BEGIN:STANDARD
TZOFFSETFROM:+0100
TZOFFSETTO:+0000
TZNAME:GMT
DTSTART:20271031T010000
END:STANDARD
END:VTIMEZONE
BEGIN:VEVENT
DTSTART;TZID=Europe/London:20260511T193000
DTEND;TZID=Europe/London:20260511T220000
DTSTAMP:20260423T133020
CREATED:20250827T122213Z
LAST-MODIFIED:20250827T122213Z
UID:4967-1778527800-1778536800@lhscc.club
SUMMARY:Competition
DESCRIPTION:Internal Competition \n  \nJudge: Maria Leakblade \n“Extreme” (pdi) \n“open” (print) \n 
URL:https://lhscc.club/event/competition-10/
END:VEVENT
BEGIN:VEVENT
DTSTART;VALUE=DATE:20260516
DTEND;VALUE=DATE:20260517
DTSTAMP:20260423T133020
CREATED:20251219T102159Z
LAST-MODIFIED:20260416T085032Z
UID:5203-1778889600-1778975999@lhscc.club
SUMMARY:BRIGHTON
DESCRIPTION:BRIGHTON for the day! \nA day out in Brighton with a wide range of opportunities to grab good images. Seascapes\, wildlife\, street\, architecture…. and much more \n  \nOn Saturday 16th May we will be holding our annual photowalk in Brighton. We will be meeting at Brighton train station at midday. \nTrains are available as follows \nSwanwick – 10:08am arriving in Brighton at 11:35am or 10:38am arriving in Brighton at 12:05pm. Return tickets with a senior railcard start at under £15. \nFareham – The same train can be picked up at Fareham at 10:14am or 10:44am \nWhat to expect from the day: Brighton offers different architecture\, the lanes and a seafront location with lots to pho-tograph. There will also be plenty of places to pick up refreshments. Expect lots of walking so we would suggest travel-ling light with your comfiest walking shoes. We would also recommend using the LHSCC WhatsApp where we will post locations during the day to ensure no one gets lost. Below gives you some idea of what to expect. \n  \n 
URL:https://lhscc.club/event/brighton/
END:VEVENT
BEGIN:VEVENT
DTSTART;TZID=Europe/London:20260518T193000
DTEND;TZID=Europe/London:20260518T220000
DTSTAMP:20260423T133020
CREATED:20260206T094911Z
LAST-MODIFIED:20260227T130107Z
UID:5279-1779132600-1779141600@lhscc.club
SUMMARY:PRACTICAL
DESCRIPTION:A walk by the river \n  \nThis is obviously weather dependent so watch out for updates. We aim to go down the road to the Hamble – a short walk or drive from the club meeting room. \nThis will be a chance to maybe use a film camera if you still own one! Or a chance to take a shot that is not manipulated (straight out of camera)and  we will look at them in June at a show and tell evening.Further information to follow. \n 
URL:https://lhscc.club/event/practical-10/
END:VEVENT
END:VCALENDAR